Workbook

Sheet Individuales
B2: LIGA DEPORTIVA NACIONAL DE PATINAJE ARTÍSTICO DE CHILE
B3: INSCRIPCIONES TEMPORADA 2019
D6: Club | E6: Skating Queens | M6: Modalidad
M7: DEBUTANTE | N7: LIBRE | O7: FIGURAS | P7: DANZA
B8: # | C8: Club | D8: Ap. Paterno | E8: Ap. Materno | F8: Nombre | G8: Segundo nombre | H8: Genero | I8: Rut | J8: FN | K8: Edad | L8: Categoria | M8: Eficiencia | N8: EficienciaL | O8: EficienciaF | P8: EficienciaD | Q8: Freedance
B9: =IF(OR(D9<>"",J9<>""),CELL("fila",B9)-8,"") -> 1 | C9: =IF(Individuales[[#This Row],[ '#]]<>"",TEXT($E$6,""),"") -> Skating Queens | D9: Fuentes | E9: Fuentes | F9: Almendra | G9: Rayen | H9: Femenino | I9: 22.147.980-7 | J9: 38895 | K9: 12 | L9: PRE INFANTIL
B10: =IF(OR(D10<>"",J10<>""),CELL("fila",B10)-8,"") -> 2 | C10: =IF(Individuales[[#This Row],[ '#]]<>"",TEXT($E$6,""),"") -> Skating Queens | D10: Orellana | E10: Opazo | F10: Rayen | G10: Aynara | H10: Femenino | I10: 23.974.733-7 | J10: 41035 | K10: 6 | L10: PEQUES 5-6 | N10: NOVICIOS
B11: =IF(OR(D11<>"",J11<>""),CELL("fila",B11)-8,"") -> 3 | C11: =IF(Individuales[[#This Row],[ '#]]<>"",TEXT($E$6,""),"") -> Skating Queens | D11: Nuñez | E11: Cifuentes | F11: Martina | G11: Noemi | H11: Femenino | I11: 23.720.988-5 | J11: 40885 | K11: 7 | L11: PEQUES 7-8 | N11: NOVICIOS
B12: =IF(OR(D12<>"",J12<>""),CELL("fila",B12)-8,"") -> 4 | C12: =IF(Individuales[[#This Row],[ '#]]<>"",TEXT($E$6,""),"") -> Skating Queens | D12: Rivera | E12: Sanhueza | F12: Amanda | G12: Lucia | H12: Femenino | I12: 23.333.786-3 | J12: 40323 | K12: 8 | L12: PEQUES 7-8 | N12: NOVICIOS
B13: =IF(OR(D13<>"",J13<>""),CELL("fila",B13)-8,"") -> 5 | C13: =IF(Individuales[[#This Row],[ '#]]<>"",TEXT($E$6,""),"") -> Skating Queens | D13: Linero | E13: Torres | F13: Francisca | G13: Sofia | H13: Femenino | I13: 23.187.907-2 | J13: 40141 | K13: 9 | L13: PRE INFANTIL | N13: NOVICIOS
B14: =IF(OR(D14<>"",J14<>""),CELL("fila",B14)-8,"") -> 6 | C14: =IF(Individuales[[#This Row],[ '#]]<>"",TEXT($E$6,""),"") -> Skating Queens | D14: Fica | E14: Avendaño | F14: Yael | G14: Anahí | H14: Femenino | I14: 21.547.760-6 | J14: 38085 | K14: 15 | L14: CADETES | N14: NACIONAL C | P14: NACIONAL C
B15: =IF(OR(D15<>"",J15<>""),CELL("fila",B15)-8,"") -> 7 | C15: =IF(Individuales[[#This Row],[ '#]]<>"",TEXT($E$6,""),"") -> Skating Queens | D15: Venegas | E15: Jara | F15: Valeria | G15: Antonia | H15: Femenino | I15: 22.347.183-8 | J15: 39154 | K15: 12 | L15: INFANTIL | N15: NACIONAL C
B16: =IF(OR(D16<>"",J16<>""),CELL("fila",B16)-8,"") -> 8 | C16: =IF(Individuales[[#This Row],[ '#]]<>"",TEXT($E$6,""),"") -> Skating Queens | D16: Ferreira | E16: Saavedra | F16: Scarleth | G16: Valentina | H16: Femenino | I16: 22.233.542-6 | J16: 39000 | K16: 12 | L16: INFANTIL | N16: NACIONAL C
B17: =IF(OR(D17<>"",J17<>""),CELL("fila",B17)-8,"") -> 9 | C17: =IF(Individuales[[#This Row],[ '#]]<>"",TEXT($E$6,""),"") -> Skating Queens | D17: Soto | E17: Poblete | F17: Javiera | G17: Isidora | H17: Femenino | I17: 22.016.796-8 | J17: 38721 | K17: 13 | L17: INFANTIL | N17: NACIONAL C | P17: NOVICIOS
B18: =IF(OR(D18<>"",J18<>""),CELL("fila",B18)-8,"") -> 10 | C18: =IF(Individuales[[#This Row],[ '#]]<>"",TEXT($E$6,""),"") -> Skating Queens | D18: Manzo | E18: Herrera | F18: Fernanda | G18: Isidora | H18: Femenino | I18: 21.829.113-9 | J18: 38473 | K18: 13 | L18: CADETES | N18: NACIONAL C | P18: NOVICIOS
B19: =IF(OR(D19<>"",J19<>""),CELL("fila",B19)-8,"") -> 11 | C19: =IF(Individuales[[#This Row],[ '#]]<>"",TEXT($E$6,""),"") -> Skating Queens | D19: Quilodran | E19: San Martin | F19: Millaray | G19: Licarayen | H19: Femenino | I19: 21.838.482-5 | J19: 38447 | K19: 14 | L19: CADETES | N19: NACIONAL C
B20: =IF(OR(D20<>"",J20<>""),CELL("fila",B20)-8,"") -> 12 | C20: =IF(Individuales[[#This Row],[ '#]]<>"",TEXT($E$6,""),"") -> Skating Queens | D20: Eriz | E20: Aguayo | F20: Martina | G20: Belen | H20: Femenino | I20: 21.536.020-2 | J20: 38071 | K20: 15 | L20: CADETES | N20: NACIONAL C | P20: NACIONAL B
B21: =IF(OR(D21<>"",J21<>""),CELL("fila",B21)-8,"") -> 13 | C21: =IF(Individuales[[#This Row],[ '#]]<>"",TEXT($E$6,""),"") -> Skating Queens | D21: Zambrano | E21: Conejeros | F21: Karolain | G21: Betsabe | H21: Femenino | I21: 22.069.428-3 | J21: 38779 | K21: 13 | L21: INFANTIL | N21: NACIONAL B | P21: NACIONAL B
B22: =IF(OR(D22<>"",J22<>""),CELL("fila",B22)-8,"") -> 14 | C22: =IF(Individuales[[#This Row],[ '#]]<>"",TEXT($E$6,""),"") -> Skating Queens | D22: Fernandez | E22: Rojas | F22: Constanza | G22: Catalina | H22: Femenino | I22: 21.629.908-6 | J22: 38201 | K22: 14 | L22: CADETES
B23: =IF(OR(D23<>"",J23<>""),CELL("fila",B23)-8,"") | C23: =IF(Individuales[[#This Row],[ '#]]<>"",TEXT($E$6,""),"")
B24: =IF(OR(D24<>"",J24<>""),CELL("fila",B24)-8,"") | C24: =IF(Individuales[[#This Row],[ '#]]<>"",TEXT($E$6,""),"")
B25: =IF(OR(D25<>"",J25<>""),CELL("fila",B25)-8,"") | C25: =IF(Individuales[[#This Row],[ '#]]<>"",TEXT($E$6,""),"")
B26: =IF(OR(D26<>"",J26<>""),CELL("fila",B26)-8,"") | C26: =IF(Individuales[[#This Row],[ '#]]<>"",TEXT($E$6,""),"")
B27: =IF(OR(D27<>"",J27<>""),CELL("fila",B27)-8,"") | C27: =IF(Individuales[[#This Row],[ '#]]<>"",TEXT($E$6,""),"")
B28: =IF(OR(D28<>"",J28<>""),CELL("fila",B28)-8,"") | C28: =IF(Individuales[[#This Row],[ '#]]<>"",TEXT($E$6,""),"")
B29: =IF(OR(D29<>"",J29<>""),CELL("fila",B29)-8,"") | C29: =IF(Individuales[[#This Row],[ '#]]<>"",TEXT($E$6,""),"")
B30: =IF(OR(D30<>"",J30<>""),CELL("fila",B30)-8,"") | C30: =IF(Individuales[[#This Row],[ '#]]<>"",TEXT($E$6,""),"")
B31: =IF(OR(D31<>"",J31<>""),CELL("fila",B31)-8,"") | C31: =IF(Individuales[[#This Row],[ '#]]<>"",TEXT($E$6,""),"")
B32: =IF(OR(D32<>"",J32<>""),CELL("fila",B32)-8,"") | C32: =IF(Individuales[[#This Row],[ '#]]<>"",TEXT($E$6,""),"")
B33: =IF(OR(D33<>"",J33<>""),CELL("fila",B33)-8,"") | C33: =IF(Individuales[[#This Row],[ '#]]<>"",TEXT($E$6,""),"")
B34: =IF(OR(D34<>"",J34<>""),CELL("fila",B34)-8,"") | C34: =IF(Individuales[[#This Row],[ '#]]<>"",TEXT($E$6,""),"")
... B279: =IF(OR(D279<>"",J279<>""),CELL("fila",B279)-8,"") | C279: =IF(Individuales[[#This Row],[ '#]]<>"",TEXT($E$6,""),"")

Sheet Parejas
B2: LIGA DEPORTIVA NACIONAL DE PATINAJE ARTÍSTICO DE CHILE
B3: INSCRIPCIONES TEMPORADA 2019
D7: Deportista 1 | G7: Deportista 2
B8: # | C8: Club | D8: Nombre | E8: Rut | F8: FN | G8: Nombre2 | H8: Rut2 | I8: FN2 | J8: Categoria | K8: EficienciaL
B9: =IF(AND(OR(D9<>"",E9<>""),OR(G9<>"",H9<>"")),CELL("fila",B9)-8,"") | C9: =IF(Individuales3[[#This Row],[ '#]]<>"",TEXT(Individuales!$E$6,""),"")
B10: =IF(AND(OR(D10<>"",E10<>""),OR(G10<>"",H10<>"")),CELL("fila",B10)-8,"") | C10: =IF(Individuales3[[#This Row],[ '#]]<>"",TEXT(Individuales!$E$6,""),"")
B11: =IF(AND(OR(D11<>"",E11<>""),OR(G11<>"",H11<>"")),CELL("fila",B11)-8,"") | C11: =IF(Individuales3[[#This Row],[ '#]]<>"",TEXT(Individuales!$E$6,""),"")
B12: =IF(AND(OR(D12<>"",E12<>""),OR(G12<>"",H12<>"")),CELL("fila",B12)-8,"") | C12: =IF(Individuales3[[#This Row],[ '#]]<>"",TEXT(Individuales!$E$6,""),"")
B13: =IF(AND(OR(D13<>"",E13<>""),OR(G13<>"",H13<>"")),CELL("fila",B13)-8,"") | C13: =IF(Individuales3[[#This Row],[ '#]]<>"",TEXT(Individuales!$E$6,""),"")
B14: =IF(AND(OR(D14<>"",E14<>""),OR(G14<>"",H14<>"")),CELL("fila",B14)-8,"") | C14: =IF(Individuales3[[#This Row],[ '#]]<>"",TEXT(Individuales!$E$6,""),"")
B15: =IF(AND(OR(D15<>"",E15<>""),OR(G15<>"",H15<>"")),CELL("fila",B15)-8,"") | C15: =IF(Individuales3[[#This Row],[ '#]]<>"",TEXT(Individuales!$E$6,""),"")
B16: =IF(AND(OR(D16<>"",E16<>""),OR(G16<>"",H16<>"")),CELL("fila",B16)-8,"") | C16: =IF(Individuales3[[#This Row],[ '#]]<>"",TEXT(Individuales!$E$6,""),"")
B17: =IF(AND(OR(D17<>"",E17<>""),OR(G17<>"",H17<>"")),CELL("fila",B17)-8,"") | C17: =IF(Individuales3[[#This Row],[ '#]]<>"",TEXT(Individuales!$E$6,""),"")
B18: =IF(AND(OR(D18<>"",E18<>""),OR(G18<>"",H18<>"")),CELL("fila",B18)-8,"") | C18: =IF(Individuales3[[#This Row],[ '#]]<>"",TEXT(Individuales!$E$6,""),"")
B19: =IF(AND(OR(D19<>"",E19<>""),OR(G19<>"",H19<>"")),CELL("fila",B19)-8,"") | C19: =IF(Individuales3[[#This Row],[ '#]]<>"",TEXT(Individuales!$E$6,""),"")
B20: =IF(AND(OR(D20<>"",E20<>""),OR(G20<>"",H20<>"")),CELL("fila",B20)-8,"") | C20: =IF(Individuales3[[#This Row],[ '#]]<>"",TEXT(Individuales!$E$6,""),"")
... B279: =IF(AND(OR(D279<>"",E279<>""),OR(G279<>"",H279<>"")),CELL("fila",B279)-8,"") | C279: =IF(Individuales3[[#This Row],[ '#]]<>"",TEXT(Individuales!$E$6,""),"")

Sheet Grupales
B2: LIGA DEPORTIVA NACIONAL DE PATINAJE ARTÍSTICO DE CHILE
B3: INSCRIPCIONES TEMPORADA 2019
B8: # | C8: Club | D8: Nombre Grupo | E8: Deportistas | F8: Modalidad | G8: Categoria
B9: =IF(D9<>"",CELL("fila",B9)-8,"") | C9: =IF(Individuales34[[#This Row],[ '#]]<>"",TEXT(Individuales!$E$6,""),"")
B10: =IF(D10<>"",CELL("fila",B10)-8,"") | C10: =IF(Individuales34[[#This Row],[ '#]]<>"",TEXT(Individuales!$E$6,""),"")
B11: =IF(D11<>"",CELL("fila",B11)-8,"") | C11: =IF(Individuales34[[#This Row],[ '#]]<>"",TEXT(Individuales!$E$6,""),"")
B12: =IF(D12<>"",CELL("fila",B12)-8,"") | C12: =IF(Individuales34[[#This Row],[ '#]]<>"",TEXT(Individuales!$E$6,""),"")
B13: =IF(D13<>"",CELL("fila",B13)-8,"") | C13: =IF(Individuales34[[#This Row],[ '#]]<>"",TEXT(Individuales!$E$6,""),"")
B14: =IF(D14<>"",CELL("fila",B14)-8,"") | C14: =IF(Individuales34[[#This Row],[ '#]]<>"",TEXT(Individuales!$E$6,""),"")
B15: =IF(D15<>"",CELL("fila",B15)-8,"") | C15: =IF(Individuales34[[#This Row],[ '#]]<>"",TEXT(Individuales!$E$6,""),"")
B16: =IF(D16<>"",CELL("fila",B16)-8,"") | C16: =IF(Individuales34[[#This Row],[ '#]]<>"",TEXT(Individuales!$E$6,""),"")
B17: =IF(D17<>"",CELL("fila",B17)-8,"") | C17: =IF(Individuales34[[#This Row],[ '#]]<>"",TEXT(Individuales!$E$6,""),"")
B18: =IF(D18<>"",CELL("fila",B18)-8,"") | C18: =IF(Individuales34[[#This Row],[ '#]]<>"",TEXT(Individuales!$E$6,""),"")
B19: =IF(D19<>"",CELL("fila",B19)-8,"") | C19: =IF(Individuales34[[#This Row],[ '#]]<>"",TEXT(Individuales!$E$6,""),"")
B20: =IF(D20<>"",CELL("fila",B20)-8,"") | C20: =IF(Individuales34[[#This Row],[ '#]]<>"",TEXT(Individuales!$E$6,""),"")
... B279: =IF(D279<>"",CELL("fila",B279)-8,"") | C279: =IF(Individuales34[[#This Row],[ '#]]<>"",TEXT(Individuales!$E$6,""),"")

Sheet Descarga
A1: Club | B1: ApellidoPaterno | C1: ApellidoMaterno | D1: Nombre | E1: Segundo | F1: Genero | G1: RUT | H1: Nacimiento | I1: Categoria | J1: Debutante | K1: Libre | L1: Figuras | M1: Danza | N1: Freedance | O1: Parejas | P1: Cuarteto | Q1: Grupo Grande | R1: Grupo Pequeño | S1: Cuota1 | T1: Cuota2 | U1: Tipo de elemento | V1: Ruta de acceso
A2: Amancay`h | B2: FERNANDEZ | C2: BREVIS | D2: SOFIA | E2: NATALIA | F2: Femenino | G2: 22.434.375-2 | H2: 39266 | I2: INFANTIL | K2: NOVICIOS | U2: Elemento | V2: sites/rollersoft/LiDNPACH/2019/Lists/Deportistas
A3: Amancay`h | B3: QUEZZADA | C3: BRAVO | D3: ROCIO | E3: JESUS | F3: Femenino | G3: 22.587.190-6 | H3: 39442 | I3: INFANTIL | K3: NOVICIOS | U3: Elemento | V3: sites/rollersoft/LiDNPACH/2019/Lists/Deportistas
A4: Amancay`h | B4: ORTIZ | C4: VELIZ | D4: ANTONIA | E4: SOLEDAD | F4: Femenino | G4: 22.414.237-4 | H4: 39237 | I4: INFANTIL | K4: NOVICIOS | U4: Elemento | V4: sites/rollersoft/LiDNPACH/2019/Lists/Deportistas
A5: Amancay`h | B5: ARAYA | C5: URTUBIA | D5: ISIDORA | E5: ANTONIA | F5: Femenino | G5: 22.011.627-1 | H5: 38719 | I5: INFANTIL | K5: NACIONAL C | U5: Elemento | V5: sites/rollersoft/LiDNPACH/2019/Lists/Deportistas
A6: Amancay`h | B6: GUERRERO | C6: TORRES | D6: DANKO | E6: ANDRES | F6: Masculino | G6: 22.618.825-8 | H6: 39468 | I6: PRE INFANTIL | K6: NACIONAL C | U6: Elemento | V6: sites/rollersoft/LiDNPACH/2019/Lists/Deportistas
A7: Amancay`h | B7: FARIAS | C7: ROJAS | D7: ANTONELA | E7: VANESSA | F7: Femenino | G7: 22.950.354-5 | H7: 39858 | I7: PRE INFANTIL | K7: NACIONAL C | U7: Elemento | V7: sites/rollersoft/LiDNPACH/2019/Lists/Deportistas
A8: Amancay`h | B8: COSTES | C8: PASTEN | D8: LIZ | E8: PASCAL | F8: Femenino | G8: 22.505.451-7 | H8: 39344 | I8: INFANTIL | K8: NACIONAL C | U8: Elemento | V8: sites/rollersoft/LiDNPACH/2019/Lists/Deportistas
A9: Amancay`h | B9: PONCE | C9: ALARCON | D9: ROCIO | E9: ANTONIA | F9: Femenino | G9: 21.418.695-0 | H9: 37910 | I9: JUVENIL | K9: NACIONAL C | U9: Elemento | V9: sites/rollersoft/LiDNPACH/2019/Lists/Deportistas
A10: Ángeles de Colchagua | B10: ROMERO | C10: GOMEZ | D10: DANIELA | E10: AYLIN | F10: Femenino | G10: 22.558.898-8 | H10: 39408 | I10: INFANTIL | K10: NOVICIOS | U10: Elemento | V10: sites/rollersoft/LiDNPACH/2019/Lists/Deportistas
A11: Ángeles de Colchagua | B11: CANDON | C11: RUMINOT | D11: AGUSTINA | E11: IGNACIA | F11: Femenino | G11: 22.467.266-7 | H11: 39295 | I11: INFANTIL | K11: NOVICIOS | U11: Elemento | V11: sites/rollersoft/LiDNPACH/2019/Lists/Deportistas
A12: Ángeles de Colchagua | B12: QUEZADA | C12: GALVEZ | D12: ANTONIA | E12: BELEN | F12: Femenino | G12: 22.063.343-8 | H12: 38772 | I12: INFANTIL | K12: NOVICIOS | U12: Elemento | V12: sites/rollersoft/LiDNPACH/2019/Lists/Deportistas
A13: Ángeles de Colchagua | B13: REYES | C13: ABARCA | D13: FRANCISCA | E13: ANTONIA | F13: Femenino | G13: 22.379.134-4 | H13: 39191 | I13: INFANTIL | K13: NOVICIOS | U13: Elemento | V13: sites/rollersoft/LiDNPACH/2019/Lists/Deportistas
... A17: Ángeles de Colchagua | B17: SOLIS | C17: SEGOVIA | D17: FLORENCIA | E17: VALENTINA | F17: Femenino | G17: 23.387.228-8 | H17: 40392 | I17: PEQUES 7-8 | K17: NOVICIOS | U17: Elemento | V17: sites/rollersoft/LiDNPACH/2019/Lists/Deportistas
A18: Ángeles de Colchagua | B18: VALLEJO | C18: FONDON | D18: VICTORIA | F18: Femenino | G18: 23.514.131-0 | H18: 40515 | I18: PEQUES 7-8 | K18: NOVICIOS | U18: Elemento | V18: sites/rollersoft/LiDNPACH/2019/Lists/Deportistas
A19: Ángeles de Colchagua | B19: CASTRO | C19: GALVEZ | D19: BELEN | E19: DE JESUS | F19: Femenino | G19: 23.412.983-K | H19: 40417 | I19: PEQUES 7-8 | K19: NOVICIOS | U19: Elemento | V19: sites/rollersoft/LiDNPACH/2019/Lists/Deportistas
A20: Ángeles de Colchagua | B20: CARGUAS | C20: PALACIOS | D20: LUCIANO | F20: Masculino | G20: 23.220.774-4 | H20: 40189 | I20: PEQUES 7-8 | K20: NOVICIOS | U20: Elemento | V20: sites/rollersoft/LiDNPACH/2019/Lists/Deportistas
A21: Ángeles de Colchagua | B21: FREDES | C21: GUTIERREZ | D21: ISIDORA | E21: FLORENCIA | F21: Femenino | G21: 22.608.107-6 | H21: 39455 | I21: PRE INFANTIL | K21: NACIONAL C | U21: Elemento | V21: sites/rollersoft/LiDNPACH/2019/Lists/Deportistas
A22: Ángeles de Colchagua | B22: CABRERA | C22: FLORES | D22: AYLIN | E22: BELEN | F22: Femenino | G22: 22.313.705-9 | H22: 39107 | I22: INFANTIL | K22: NACIONAL C | U22: Elemento | V22: sites/rollersoft/LiDNPACH/2019/Lists/Deportistas
A23: Ángeles de Colchagua | B23: PIZARRO | C23: CARBONELL | D23: FERNANDA | E23: ANTONIA | F23: Femenino | G23: 21.455.404-6 | H23: 37932 | I23: JUVENIL | K23: NACIONAL C | U23: Elemento | V23: sites/rollersoft/LiDNPACH/2019/Lists/Deportistas
A24: Antu Malen | B24: Muñoz | C24: Ramirez | D24: Sofia | E24: Martina | F24: Femenino | G24: 23.261.281-2 | H24: 40358 | I24: PEQUES 7-8 | K24: NOVICIOS | U24: Elemento | V24: sites/rollersoft/LiDNPACH/2019/Lists/Deportistas
A25: Antu Malen | B25: Figueroa | C25: Anziani | D25: Katiuscka | E25: Annais | F25: Femenino | G25: 23.218.712-3 | H25: 40183 | I25: PEQUES 7-8 | K25: NOVICIOS | U25: Elemento | V25: sites/rollersoft/LiDNPACH/2019/Lists/Deportistas
A26: Antu Malen | B26: Bastias | C26: Saldias | D26: Martin | E26: Jesus | F26: Femenino | G26: 23.127.159-9 | H26: 40071 | I26: PRE INFANTIL | K26: NOVICIOS | U26: Elemento | V26: sites/rollersoft/LiDNPACH/2019/Lists/Deportistas
A27: Antu Malen | B27: Lara | C27: Riffo | D27: Trinidad | E27: Isadora | F27: Femenino | G27: 22.914.944-k | H27: 39820 | I27: PRE INFANTIL | K27: NOVICIOS | U27: Elemento | V27: sites/rollersoft/LiDNPACH/2019/Lists/Deportistas
A28: Antu Malen | B28: Silva | C28: Pedreros | D28: Martina | E28: Antonia | F28: Femenino | G28: 22.189.987-2 | H28: 38937 | I28: INFANTIL | K28: NACIONAL C | U28: Elemento | V28: sites/rollersoft/LiDNPACH/2019/Lists/Deportistas
A29: Roller Skate CNSC | B29: Armijo | C29: Ciani | D29: Julieta | E29: Ignacia | F29: Femenino | G29: 24.011.273-6 | H29: 41104 | I29: PEQUES 5-6 | K29: NOVICIOS | S29: 7000 | U29: Elemento | V29: sites/rollersoft/LiDNPACH/2019/Lists/Deportistas
A30: Roller Skate CNSC | B30: Sepulveda | C30: Gonzalez | D30: Ema | F30: Femenino | G30: 23.638.188-9 | H30: 40668 | I30: PEQUES 7-8 | K30: NOVICIOS | U30: Elemento | V30: sites/rollersoft/LiDNPACH/2019/Lists/Deportistas
A31: Roller Skate CNSC | B31: Aburto | C31: Tapia | D31: Mariaemilia | F31: Femenino | G31: 23.614.181-0 | H31: 40639 | I31: PEQUES 7-8 | K31: NACIONAL C | U31: Elemento | V31: sites/rollersoft/LiDNPACH/2019/Lists/Deportistas
A32: Roller Skate CNSC | B32: Diaz | C32: Nuñez | D32: Martina | E32: Antonella | F32: Femenino | G32: 22.962.729-5 | H32: 39877 | I32: PRE INFANTIL | K32: NACIONAL C | U32: Elemento | V32: sites/rollersoft/LiDNPACH/2019/Lists/Deportistas
A33: Roller Skate CNSC | B33: Gallegos | C33: Vergara | D33: Amara | E33: Antonia | F33: Femenino | G33: 22.760.542-1 | H33: 39629 | I33: PRE INFANTIL | K33: NACIONAL C | U33: Elemento | V33: sites/rollersoft/LiDNPACH/2019/Lists/Deportistas
A34: Roller Skate CNSC | B34: Sanchez | C34: Baeza | D34: Fernanda | E34: Ignacia | F34: Femenino | G34: 22.330.043-k | H34: 39128 | I34: INFANTIL | K34: NACIONAL C | M34: NACIONAL C | U34: Elemento | V34: sites/rollersoft/LiDNPACH/2019/Lists/Deportistas
A35: Roller Skate CNSC | B35: Cabello | C35: Ciani | D35: Martina | E35: Almendra | F35: Femenino | G35: 22.358.267-2 | H35: 39164 | I35: INFANTIL | K35: NACIONAL B | M35: NACIONAL B | N35: NACIONAL B | U35: Elemento | V35: sites/rollersoft/LiDNPACH/2019/Lists/Deportistas
A36: Roller Skate CNSC | B36: Diaz | C36: Moreno | D36: Vinka | F36: Femenino | G36: 22.170.035-K | H36: 38924 | I36: INFANTIL | K36: NACIONAL B | M36: NACIONAL B | N36: NACIONAL B | U36: Elemento | V36: sites/rollersoft/LiDNPACH/2019/Lists/Deportistas
A37: Roller Skate CNSC | B37: Soto | C37: Damianovic | D37: Matilde | E37: Isidora | F37: Femenino | G37: 22.071.615-5 | H37: 38785 | I37: INFANTIL | K37: NACIONAL | M37: NACIONAL | N37: NACIONAL A | U37: Elemento | V37: sites/rollersoft/LiDNPACH/2019/Lists/Deportistas
A38: Roller Skate CNSC | B38: Ponce | C38: Muñoz | D38: Michelle | E38: Antonia | F38: Femenino | G38: 21.978.842-8 | H38: 38671 | I38: CADETES | K38: NACIONAL C | M38: NACIONAL C | U38: Elemento | V38: sites/rollersoft/LiDNPACH/2019/Lists/Deportistas
A39: Roller Skate CNSC | B39: Ponce | C39: Muñoz | D39: Stefani | E39: Nicole | F39: Femenino | G39: 21.547.157-8 | H39: 38090 | I39: CADETES | K39: NACIONAL C | M39: NACIONAL C | U39: Elemento | V39: sites/rollersoft/LiDNPACH/2019/Lists/Deportistas
A40: Roller Skate CNSC | B40: Ayala | C40: Bustos | D40: Valentina | E40: Belen | F40: Femenino | G40: 20.963.660-3 | H40: 37284 | I40: JUVENIL | K40: NOVICIOS | U40: Elemento | V40: sites/rollersoft/LiDNPACH/2019/Lists/Deportistas
A41: Roller Skate CNSC | B41: Flores | C41: Arenas | D41: Valeria | E41: Macarena | F41: Femenino | G41: 21.446.083-1 | H41: 37939 | I41: JUVENIL | K41: NOVICIOS | U41: Elemento | V41: sites/rollersoft/LiDNPACH/2019/Lists/Deportistas
A42: Roller Skate CNSC | B42: Zuñiga | C42: Vidal | D42: Tiare | F42: Femenino | G42: 21.459.295-9 | H42: 37961 | I42: JUVENIL | K42: NACIONAL B | M42: NACIONAL B | N42: NACIONAL B | U42: Elemento | V42: sites/rollersoft/LiDNPACH/2019/Lists/Deportistas
A43: Roller Skate CNSC | B43: Aburto | C43: Tapia | D43: Antonia | F43: Femenino | G43: 20.701.688-8 | H43: 37863 | I43: JUVENIL | K43: NACIONAL B | M43: NACIONAL B | N43: NACIONAL B | U43: Elemento | V43: sites/rollersoft/LiDNPACH/2019/Lists/Deportistas
A44: Roller Skate CNSC | B44: Fernandez | C44: Bernal | D44: Kimberly | F44: Femenino | G44: 18.237.440-7 | H44: 33987 | I44: SENIOR | K44: NACIONAL A | N44: NACIONAL A | U44: Elemento | V44: sites/rollersoft/LiDNPACH/2019/Lists/Deportistas
A45: Roller Skate CNSC | B45: Zavala | C45: Hinojosa | D45: Valentina | E45: Paz | F45: Femenino | G45: 19.838035-0 | H45: 35752 | I45: SENIOR | K45: NACIONAL B | M45: NACIONAL B | N45: NACIONAL B | U45: Elemento | V45: sites/rollersoft/LiDNPACH/2019/Lists/Deportistas
A46: Roller Skate CNSC | B46: Escobedo | C46: Vargas | D46: Nicole | E46: Fernanda | F46: Femenino | G46: 19.748.945-6 | H46: 35798 | I46: SENIOR | K46: NACIONAL A | U46: Elemento | V46: sites/rollersoft/LiDNPACH/2019/Lists/Deportistas
A47: Roller Skate CNSC | B47: Lobos | C47: Mansilla | D47: Catalina | E47: Betania | F47: Femenino | G47: 22.965.333-4 | H47: 39879 | I47: PRE INFANTIL | K47: NOVICIOS | U47: Elemento | V47: sites/rollersoft/LiDNPACH/2019/Lists/Deportistas
A48: Roller Skate CNSC | B48: Araneda | C48: Peña | D48: Antonia | E48: Elizabeth | F48: Femenino | G48: 22.304.411-5 | H48: 39094 | I48: INFANTIL | K48: NOVICIOS | S48: 7000 | U48: Elemento | V48: sites/rollersoft/LiDNPACH/2019/Lists/Deportistas
A49: Roller Skate CNSC | B49: Aracena | C49: Gallardo | D49: Victoria | E49: Silvana | F49: Femenino | G49: 21.300.424-7 | H49: 37761 | I49: JUVENIL | K49: NACIONAL C | U49: Elemento | V49: sites/rollersoft/LiDNPACH/2019/Lists/Deportistas
A50: Roller Skate CNSC | B50: Lobos | C50: Mansilla | D50: Susan | E50: Valentina | F50: Femenino | G50: 21.062.312-4 | H50: 37433 | I50: JUVENIL | K50: NACIONAL C | U50: Elemento | V50: sites/rollersoft/LiDNPACH/2019/Lists/Deportistas
A51: Copiapó | B51: VELASQUEZ | C51: AVALOS | D51: IGNACIA | E51: ANDREA | F51: Femenino | G51: 21.609.716-5 | H51: 38174 | I51: CADETES | K51: NACIONAL B | U51: Elemento | V51: sites/rollersoft/LiDNPACH/2019/Lists/Deportistas
A52: Copiapó | B52: VIDAL | C52: ESPINOZA | D52: ISADORA | E52: ANTONIA | F52: Femenino | G52: 21.683.665-0 | H52: 38274 | I52: CADETES | K52: NACIONAL A | L52: NACIONAL A | U52: Elemento | V52: sites/rollersoft/LiDNPACH/2019/Lists/Deportistas
A53: Copiapó | B53: MORENO | C53: ARAYA | D53: MICHELLE | E53: ALEJANDRA | F53: Femenino | G53: 21.936.761-9 | H53: 38615 | I53: CADETES | K53: NACIONAL C | L53: NACIONAL C | U53: Elemento | V53: sites/rollersoft/LiDNPACH/2019/Lists/Deportistas
A54: Copiapó | B54: MENDOZA | C54: ALCOTA | D54: ANAIS | E54: DE LOS ANGELES | F54: Femenino | G54: 22.127.345-1 | H54: 38868 | I54: INFANTIL | K54: NACIONAL C | L54: NACIONAL C | U54: Elemento | V54: sites/rollersoft/LiDNPACH/2019/Lists/Deportistas
A55: Copiapó | B55: CASTRO | C55: FUENTES | D55: ALANIS | E55: ANTONIA | F55: Femenino | G55: 22.611.493-9 | H55: 39458 | I55: PRE INFANTIL | K55: NACIONAL C | L55: NACIONAL C | U55: Elemento | V55: sites/rollersoft/LiDNPACH/2019/Lists/Deportistas
A56: Copiapó | B56: MENDOZA | C56: ALCOTA | D56: IGNACIA | E56: BELEN | F56: Femenino | G56: 23.972.272-5 | H56: 41064 | I56: PEQUES 5-6 | K56: NOVICIOS | U56: Elemento | V56: sites/rollersoft/LiDNPACH/2019/Lists/Deportistas
A57: Copiapó | B57: VERGARA | C57: SANHUEZA | D57: CATALINA | E57: CONSTANZA | F57: Femenino | G57: 22.496.711-K | H57: 39332 | I57: INFANTIL | K57: NACIONAL B | U57: Elemento | V57: sites/rollersoft/LiDNPACH/2019/Lists/Deportistas
A58: Copiapó | B58: VALLEJOS | C58: GONZALEZ | D58: PIA | E58: VALENTINA | F58: Femenino | G58: 21.309.361-4 | H58: 37775 | I58: JUVENIL | K58: NACIONAL B | U58: Elemento | V58: sites/rollersoft/LiDNPACH/2019/Lists/Deportistas
A59: Copiapó | B59: RAMIREZ | C59: RAMIREZ | D59: SOFIA | E59: ANTONIA | F59: Femenino | G59: 21.897.444-9 | H59: 38566 | I59: CADETES | K59: NACIONAL B | U59: Elemento | V59: sites/rollersoft/LiDNPACH/2019/Lists/Deportistas
A60: Copiapó | B60: GROGG | C60: BALCAZAR | D60: FLORENCIA | E60: ANTONINA | F60: Femenino | G60: 21.763.901-8 | H60: 38368 | I60: CADETES | K60: NACIONAL B | U60: Elemento | V60: sites/rollersoft/LiDNPACH/2019/Lists/Deportistas
A61: Copiapó | B61: AGUIRRE | C61: CATALDO | D61: ANTONIA | E61: ISIDORA | F61: Femenino | G61: 22.676.908-0 | H61: 39527 | I61: PRE INFANTIL | K61: NACIONAL B | U61: Elemento | V61: sites/rollersoft/LiDNPACH/2019/Lists/Deportistas
A62: Copiapó | B62: ARRIAZA | C62: TORREALBA | D62: SOFIA | E62: MAGDALENA | F62: Femenino | G62: 22.208.699-K | H62: 38974 | I62: INFANTIL | K62: NACIONAL B | U62: Elemento | V62: sites/rollersoft/LiDNPACH/2019/Lists/Deportistas
A63: Copiapó | B63: ERAZO | C63: BELTRAN | D63: CAMILA | E63: FERNANDA | F63: Femenino | G63: 21.648.951-9 | H63: 38231 | I63: CADETES | K63: NACIONAL B | U63: Elemento | V63: sites/rollersoft/LiDNPACH/2019/Lists/Deportistas
A64: Copiapó | B64: RAMIREZ | C64: ESCOBAR | D64: EMILIA | E64: RENATA | F64: Femenino | G64: 22.411.214-9 | H64: 39232 | I64: INFANTIL | K64: NACIONAL B | U64: Elemento | V64: sites/rollersoft/LiDNPACH/2019/Lists/Deportistas
A65: Taller San Pedro | B65: Gutiérrez | C65: Fernández | D65: Fernanda | E65: Belén | F65: Femenino | G65: 22.836.672-2 | H65: 39720 | I65: PRE INFANTIL | K65: NOVICIOS | U65: Elemento | V65: sites/rollersoft/LiDNPACH/2019/Lists/Deportistas
A66: Taller San Pedro | B66: Park | C66: Espinoza | D66: Victoria | E66: Carolina | F66: Femenino | G66: 22.727.310-0 | H66: 39579 | I66: PRE INFANTIL | K66: NOVICIOS | U66: Elemento | V66: sites/rollersoft/LiDNPACH/2019/Lists/Deportistas
A67: Taller San Pedro | B67: Vila | C67: Muñoz | D67: Constanza | F67: Femenino | G67: 22.535.658-0 | H67: 39378 | I67: INFANTIL | U67: Elemento | V67: sites/rollersoft/LiDNPACH/2019/Lists/Deportistas
A68: Taller San Pedro | B68: Flores | C68: Souterel | D68: Trinidad | E68: Ignacia | F68: Femenino | G68: 22.882.534-4 | H68: 39776 | I68: PRE INFANTIL | U68: Elemento | V68: sites/rollersoft/LiDNPACH/2019/Lists/Deportistas
A69: Taller San Pedro | B69: Jarpa | C69: Fica | D69: Constanza | F69: Femenino | G69: 22.839.263-4 | H69: 39734 | I69: PRE INFANTIL | U69: Elemento | V69: sites/rollersoft/LiDNPACH/2019/Lists/Deportistas
A70: Taller San Pedro | B70: Romero | C70: Caamaño | D70: Constanza | E70: Isabel | F70: Femenino | G70: 22.164.103-5 | H70: 38911 | I70: INFANTIL | K70: NOVICIOS | U70: Elemento | V70: sites/rollersoft/LiDNPACH/2019/Lists/Deportistas
A71: Red Star | B71: MORA | C71: PINTO | D71: AHLEN | F71: Masculino | G71: 21.122.624-2 | H71: 37503 | I71: JUVENIL | K71: INTERNACIONAL | L71: NACIONAL C | U71: Elemento | V71: sites/rollersoft/LiDNPACH/2019/Lists/Deportistas
A72: Red Star | B72: MORA | C72: PINTO | D72: MIJHAEL | F72: Masculino | G72: 21.659.521-1 | H72: 38243 | I72: CADETES | K72: NACIONAL B | O72: NACIONAL C | U72: Elemento | V72: sites/rollersoft/LiDNPACH/2019/Lists/Deportistas
A73: Red Star | B73: RIVEROS | C73: MORA | D73: CONSTANZA | F73: Femenino | G73: 21.264.244-2 | H73: 37703 | I73: JUVENIL | K73: NACIONAL B | L73: NACIONAL C | N73: NACIONAL B | O73: NACIONAL C | U73: Elemento | V73: sites/rollersoft/LiDNPACH/2019/Lists/Deportistas
A74: Red Star | B74: CORNEJO | C74: SALAZAR | D74: FERNANDA | E74: ANDREA | F74: Femenino | G74: 20.418.155-1 | H74: 36872 | I74: JUNIOR | K74: NACIONAL C | U74: Elemento | V74: sites/rollersoft/LiDNPACH/2019/Lists/Deportistas
A75: Red Star | B75: RUIZ DE GAMBOA | C75: GONZALEZ | D75: ANTONIA | F75: Femenino | G75: 21.027.997-0 | H75: 37391 | I75: JUVENIL | K75: NACIONAL C | U75: Elemento | V75: sites/rollersoft/LiDNPACH/2019/Lists/Deportistas
A76: Red Star | B76: GALLIS | C76: VILLEGAS | D76: JAVIERA | F76: Femenino | G76: 19.858.723-0 | H76: 35856 | I76: SENIOR | K76: NACIONAL C | L76: NACIONAL C | N76: NACIONAL B | U76: Elemento | V76: sites/rollersoft/LiDNPACH/2019/Lists/Deportistas
A77: Red Star | B77: ARENAS | C77: REBOLLEDO | D77: MAYRA | F77: Femenino | G77: 21.715.353-0 | H77: 38350 | I77: CADETES | K77: NACIONAL C | L77: NACIONAL C | N77: NACIONAL B | U77: Elemento | V77: sites/rollersoft/LiDNPACH/2019/Lists/Deportistas
A78: Red Star | B78: MENDEZ | C78: BENITEZ | D78: MARTINA | F78: Femenino | G78: 21.826.558-8 | H78: 38471 | I78: CADETES | K78: NACIONAL C | U78: Elemento | V78: sites/rollersoft/LiDNPACH/2019/Lists/Deportistas
A79: Red Star | B79: NUÑEZ | C79: MILLAR | D79: LAURA | F79: Femenino | G79: 22.008.609-7 | H79: 38712 | I79: CADETES | K79: NACIONAL C | L79: NOVICIOS | U79: Elemento | V79: sites/rollersoft/LiDNPACH/2019/Lists/Deportistas
A80: Red Star | B80: CHACANA | C80: HORMAZABAL | D80: MONSERRAT | F80: Femenino | G80: 22.502.044-2 | H80: 39338 | I80: INFANTIL | K80: NACIONAL C | L80: NACIONAL C | N80: NACIONAL B | U80: Elemento | V80: sites/rollersoft/LiDNPACH/2019/Lists/Deportistas
A81: Red Star | B81: RETAMAL | C81: QUEZADA | D81: SCARLETH | F81: Femenino | G81: 22.416.532-3 | H81: 39241 | I81: INFANTIL | K81: NACIONAL C | L81: NOVICIOS | U81: Elemento | V81: sites/rollersoft/LiDNPACH/2019/Lists/Deportistas
A82: Red Star | B82: PEÑA | C82: TAPIA | D82: RENATO | F82: Masculino | G82: 23.097.467-5 | H82: 40125 | I82: PRE INFANTIL | K82: NACIONAL C | O82: NACIONAL C | U82: Elemento | V82: sites/rollersoft/LiDNPACH/2019/Lists/Deportistas
A83: Red Star | B83: NORANBUENA | C83: MOYANO | D83: MARTINA | F83: Femenino | G83: 23.108.117-8 | H83: 40053 | I83: PRE INFANTIL | K83: NACIONAL C | L83: NOVICIOS | U83: Elemento | V83: sites/rollersoft/LiDNPACH/2019/Lists/Deportistas
A84: Red Star | B84: PALMA | C84: RIVERA | D84: FRANCISCA | F84: Femenino | G84: 22.637.201-6 | H84: 39484 | I84: PRE INFANTIL | K84: NOVICIOS | L84: NOVICIOS | U84: Elemento | V84: sites/rollersoft/LiDNPACH/2019/Lists/Deportistas
A85: Red Star | B85: IBARRA | C85: DIAZ | D85: LUNA | F85: Femenino | G85: 23.500.391-0 | H85: 40161 | I85: PRE INFANTIL | K85: NACIONAL C | O85: NACIONAL C | U85: Elemento | V85: sites/rollersoft/LiDNPACH/2019/Lists/Deportistas
A86: Red Star | B86: CACERES | C86: BARRIGA | D86: ESPERANZA | F86: Femenino | G86: 21.543.374-9 | H86: 38077 | I86: CADETES | K86: NOVICIOS | U86: Elemento | V86: sites/rollersoft/LiDNPACH/2019/Lists/Deportistas
A87: Red Star | B87: TAPIA | C87: GONZALEZ | D87: KATHERINE | F87: Femenino | G87: 16.377.743-6 | H87: 31433 | I87: SENIOR | K87: NOVICIOS | L87: NACIONAL C | U87: Elemento | V87: sites/rollersoft/LiDNPACH/2019/Lists/Deportistas
A88: Red Star | B88: CID | C88: SEGOVIA | D88: JOSELINE | F88: Femenino | G88: 16.692.412-K | H88: 31949 | I88: SENIOR | K88: NOVICIOS | U88: Elemento | V88: sites/rollersoft/LiDNPACH/2019/Lists/Deportistas
A89: Red Star | B89: CONTRERAS | C89: MILLAR | D89: TRINIDAD | F89: Femenino | G89: 22.750.828-0 | H89: 39619 | I89: PRE INFANTIL | K89: NOVICIOS | L89: NOVICIOS | U89: Elemento | V89: sites/rollersoft/LiDNPACH/2019/Lists/Deportistas
A90: Red Star | B90: CASTAÑEDA | C90: ACEVEDO | D90: CARLA | F90: Femenino | G90: 23.114.157-K | H90: 40060 | I90: PRE INFANTIL | K90: NOVICIOS | U90: Elemento | V90: sites/rollersoft/LiDNPACH/2019/Lists/Deportistas
A91: Red Star | B91: FUNK | C91: AREVALO | D91: DAFNE | F91: Femenino | G91: 23.309.833-7 | H91: 40298 | I91: PEQUES 7-8 | K91: NOVICIOS | U91: Elemento | V91: sites/rollersoft/LiDNPACH/2019/Lists/Deportistas
A92: Red Star | B92: SANCHEZ | C92: SANTIBAÑEZ | D92: CRISTOBAL | F92: Masculino | G92: 23.557.804-2 | H92: 40583 | I92: PEQUES 7-8 | K92: NACIONAL C | O92: NACIONAL C | U92: Elemento | V92: sites/rollersoft/LiDNPACH/2019/Lists/Deportistas
A93: Red Star | B93: CARDENAS | C93: Nomez | D93: MAGDALENA | E93: Nahid | F93: Femenino | G93: 23.840.533-5 | H93: 40917 | I93: PEQUES 5-6 | K93: NOVICIOS | U93: Elemento | V93: sites/rollersoft/LiDNPACH/2019/Lists/Deportistas
A94: Red Star | B94: BLANCO | C94: FICA | D94: ANTONIA | F94: Femenino | G94: 24.274.675-9 | H94: 41401 | I94: PEQUES 5-6 | K94: NOVICIOS | O94: NACIONAL C | U94: Elemento | V94: sites/rollersoft/LiDNPACH/2019/Lists/Deportistas
A95: Red Star | B95: IBAÑEZ | C95: ARAVENA | D95: AYELEN | F95: Femenino | G95: 23.803.278-4 | H95: 40868 | I95: PEQUES 7-8 | K95: NOVICIOS | U95: Elemento | V95: sites/rollersoft/LiDNPACH/2019/Lists/Deportistas
A96: Red Star | B96: MENESES | C96: BRIONES | D96: ANAHIS | F96: Femenino | G96: 23.132.433-K | H96: 40082 | I96: PRE INFANTIL | K96: NOVICIOS | L96: NOVICIOS | N96: NACIONAL B | U96: Elemento | V96: sites/rollersoft/LiDNPACH/2019/Lists/Deportistas
A97: Red Star | B97: GONZALEZ | C97: SEPULVEDA | D97: LILIAN | F97: Femenino | G97: 18.830.290-4 | H97: 34488 | I97: SENIOR | K97: NACIONAL C | L97: NOVICIOS | O97: NACIONAL C | U97: Elemento | V97: sites/rollersoft/LiDNPACH/2019/Lists/Deportistas
A98: Red Star | B98: SEPULVEDA | C98: SANHUEZA | D98: ISMAEL | F98: Masculino | G98: 19.683.778-7 | H98: 35647 | I98: SENIOR | K98: NACIONAL C | L98: NOVICIOS | O98: NACIONAL C | U98: Elemento | V98: sites/rollersoft/LiDNPACH/2019/Lists/Deportistas
A99: Red Star | B99: JEREZ | C99: GONZALEZ | D99: BEATRIZ | F99: Femenino | G99: 21.853.136-9 | H99: 38497 | I99: CADETES | K99: NOVICIOS | U99: Elemento | V99: sites/rollersoft/LiDNPACH/2019/Lists/Deportistas
A100: Red Star | B100: GONZALEZ | C100: SEPULVEDA | D100: ANNE | E100: MARIE | F100: Femenino | G100: 18.047.401-3 | H100: 33617 | I100: SENIOR | K100: NACIONAL C | L100: NOVICIOS | U100: Elemento | V100: sites/rollersoft/LiDNPACH/2019/Lists/Deportistas
A101: Skating Queens | B101: Fuentes | C101: Fuentes | D101: Almendra | E101: Rayen | F101: Femenino | G101: 22.147.980-7 | H101: 38895 | I101: PRE INFANTIL | U101: Elemento | V101: sites/rollersoft/LiDNPACH/2019/Lists/Deportistas
A102: Skating Queens | B102: Orellana | C102: Opazo | D102: Rayen | E102: Aynara | F102: Femenino | G102: 23.974.733-7 | H102: 41035 | I102: PEQUES 5-6 | K102: NOVICIOS | U102: Elemento | V102: sites/rollersoft/LiDNPACH/2019/Lists/Deportistas
A103: Skating Queens | B103: Nuñez | C103: Cifuentes | D103: Martina | E103: Noemi | F103: Femenino | G103: 23.720.988-5 | H103: 40885 | I103: PEQUES 7-8 | K103: NOVICIOS | U103: Elemento | V103: sites/rollersoft/LiDNPACH/2019/Lists/Deportistas
...

Sheet Carga
B7: Debutantes | M7: Libre
B8: Club | C8: Ap. Paterno | D8: Ap. Materno | E8: Nombre | F8: Segundo nombre | G8: Rut | H8: FN | I8: Modalidad | J8: Categoria | K8: Eficiencia | M8: Club | N8: Ap. Paterno | O8: Ap. Materno | P8: Nombre | Q8: Segundo nombre | R8: Rut | S8: FN | T8: Modalidad | U8: Categoria | V8: Eficiencia
B9: =TEXT(Individuales!$E$6,"") -> Skating Queens | C9: =TEXT(Individuales!$D9,"") -> Fuentes | D9: =TEXT(Individuales!#REF!,"") -> #REF! | E9: =TEXT(Individuales!$F9,"") -> Almendra | F9: =TEXT(Individuales!$G9,"") -> Rayen | G9: =TEXT(Individuales!$J9,"") | H9: =TEXT(Individuales!$K9,"") | I9: =IF(G9<>"",$B$7,"") | J9: =TEXT(Individuales!$L9,"") -> PRE INFANTIL | K9: =TEXT(Individuales!$M9,"") | M9: =TEXT(Individuales!$E$6,"") -> Skating Queens | N9: =TEXT(Individuales!$D9,"") -> Fuentes | O9: =TEXT(Individuales!#REF!,"") -> #REF! | P9: =TEXT(Individuales!$F9,"") -> Almendra | Q9: =TEXT(Individuales!$G9,"") -> Rayen | R9: =TEXT(Individuales!$J9,"") | S9: =TEXT(Individuales!$K9,"") | T9: =IF(R9<>"",$M$7,"") | U9: =TEXT(Individuales!$L9,"") -> PRE INFANTIL | V9: =TEXT(Individuales!$N9,"")
B10: =TEXT(Individuales!$E$6,"") -> Skating Queens | C10: =TEXT(Individuales!$D10,"") -> Orellana | D10: =TEXT(Individuales!$E10,"") -> Opazo | E10: =TEXT(Individuales!$E9,"") -> Fuentes | F10: =TEXT(Individuales!$G10,"") -> Aynara | G10: =TEXT(Individuales!$J10,"") | H10: =TEXT(Individuales!$K10,"") | I10: =IF(G10<>"",$B$7,"") | J10: =TEXT(Individuales!$L10,"") -> PEQUES 5-6 | K10: =TEXT(Individuales!$M10,"") | M10: =TEXT(Individuales!$E$6,"") -> Skating Queens | N10: =TEXT(Individuales!P10,"") | O10: =TEXT(Individuales!Q10,"") | P10: =TEXT(Individuales!R10,"") | Q10: =TEXT(Individuales!S10,"") | R10: =TEXT(Individuales!T10,"") | S10: =TEXT(Individuales!U10,"") | T10: =IF(R10<>"",$M$7,"") | U10: =TEXT(Individuales!V10,"") | V10: =TEXT(Individuales!$N10,"") -> NOVICIOS
B11: =TEXT(Individuales!$E$6,"") -> Skating Queens | C11: =TEXT(Individuales!$D11,"") -> Nuñez | D11: =TEXT(Individuales!$E11,"") -> Cifuentes | E11: =TEXT(Individuales!$F11,"") -> Martina | F11: =TEXT(Individuales!$G11,"") -> Noemi | G11: =TEXT(Individuales!$J11,"") | H11: =TEXT(Individuales!$K11,"") | I11: =IF(G11<>"",$B$7,"") | J11: =TEXT(Individuales!$L11,"") -> PEQUES 7-8 | K11: =TEXT(Individuales!$M11,"") | M11: =TEXT(Individuales!$E$6,"") -> Skating Queens | N11: =TEXT(Individuales!P11,"") | O11: =TEXT(Individuales!Q11,"") | P11: =TEXT(Individuales!R11,"") | Q11: =TEXT(Individuales!S11,"") | R11: =TEXT(Individuales!T11,"") | S11: =TEXT(Individuales!U11,"") | T11: =IF(R11<>"",$M$7,"") | U11: =TEXT(Individuales!V11,"") | V11: =TEXT(Individuales!$N11,"") -> NOVICIOS
B12: =TEXT(Individuales!$E$6,"") -> Skating Queens | C12: =TEXT(Individuales!$D12,"") -> Rivera | D12: =TEXT(Individuales!$E12,"") -> Sanhueza | E12: =TEXT(Individuales!$F12,"") -> Amanda | F12: =TEXT(Individuales!$G12,"") -> Lucia | G12: =TEXT(Individuales!$J12,"") | H12: =TEXT(Individuales!$K12,"") | I12: =IF(G12<>"",$B$7,"") | J12: =TEXT(Individuales!$L12,"") -> PEQUES 7-8 | K12: =TEXT(Individuales!$M12,"") | M12: =TEXT(Individuales!$E$6,"") -> Skating Queens | N12: =TEXT(Individuales!P12,"") | O12: =TEXT(Individuales!Q12,"") | P12: =TEXT(Individuales!R12,"") | Q12: =TEXT(Individuales!S12,"") | R12: =TEXT(Individuales!T12,"") | S12: =TEXT(Individuales!U12,"") | T12: =IF(R12<>"",$M$7,"") | U12: =TEXT(Individuales!V12,"") | V12: =TEXT(Individuales!$N12,"") -> NOVICIOS
B13: =TEXT(Individuales!$E$6,"") -> Skating Queens | C13: =TEXT(Individuales!$D13,"") -> Linero | D13: =TEXT(Individuales!$E13,"") -> Torres | E13: =TEXT(Individuales!$F13,"") -> Francisca | F13: =TEXT(Individuales!$G13,"") -> Sofia | G13: =TEXT(Individuales!$J13,"") | H13: =TEXT(Individuales!$K13,"") | I13: =IF(G13<>"",$B$7,"") | J13: =TEXT(Individuales!$L13,"") -> PRE INFANTIL | K13: =TEXT(Individuales!$M13,"") | M13: =TEXT(Individuales!$E$6,"") -> Skating Queens | N13: =TEXT(Individuales!P13,"") | O13: =TEXT(Individuales!Q13,"") | P13: =TEXT(Individuales!R13,"") | Q13: =TEXT(Individuales!S13,"") | R13: =TEXT(Individuales!T13,"") | S13: =TEXT(Individuales!U13,"") | T13: =IF(R13<>"",$M$7,"") | U13: =TEXT(Individuales!V13,"") | V13: =TEXT(Individuales!$N13,"") -> NOVICIOS
B14: =TEXT(Individuales!$E$6,"") -> Skating Queens | C14: =TEXT(Individuales!$D14,"") -> Fica | D14: =TEXT(Individuales!$E14,"") -> Avendaño | E14: =TEXT(Individuales!$F14,"") -> Yael | F14: =TEXT(Individuales!$G14,"") -> Anahí | G14: =TEXT(Individuales!$J14,"") | H14: =TEXT(Individuales!$K14,"") | I14: =IF(G14<>"",$B$7,"") | J14: =TEXT(Individuales!$L14,"") -> CADETES | K14: =TEXT(Individuales!$M14,"") | M14: =TEXT(Individuales!$E$6,"") -> Skating Queens | N14: =TEXT(Individuales!P14,"") -> NACIONAL C | O14: =TEXT(Individuales!Q14,"") | P14: =TEXT(Individuales!R14,"") | Q14: =TEXT(Individuales!S14,"") | R14: =TEXT(Individuales!T14,"") | S14: =TEXT(Individuales!U14,"") | T14: =IF(R14<>"",$M$7,"") | U14: =TEXT(Individuales!V14,"") | V14: =TEXT(Individuales!$N14,"") -> NACIONAL C
B15: =TEXT(Individuales!$E$6,"") -> Skating Queens | C15: =TEXT(Individuales!$D15,"") -> Venegas | D15: =TEXT(Individuales!$E15,"") -> Jara | E15: =TEXT(Individuales!$F15,"") -> Valeria | F15: =TEXT(Individuales!$G15,"") -> Antonia | G15: =TEXT(Individuales!$J15,"") | H15: =TEXT(Individuales!$K15,"") | I15: =IF(G15<>"",$B$7,"") | J15: =TEXT(Individuales!$L15,"") -> INFANTIL | K15: =TEXT(Individuales!$M15,"") | M15: =TEXT(Individuales!$E$6,"") -> Skating Queens | N15: =TEXT(Individuales!P15,"") | O15: =TEXT(Individuales!Q15,"") | P15: =TEXT(Individuales!R15,"") | Q15: =TEXT(Individuales!S15,"") | R15: =TEXT(Individuales!T15,"") | S15: =TEXT(Individuales!U15,"") | T15: =IF(R15<>"",$M$7,"") | U15: =TEXT(Individuales!V15,"") | V15: =TEXT(Individuales!$N15,"") -> NACIONAL C
B16: =TEXT(Individuales!$E$6,"") -> Skating Queens | C16: =TEXT(Individuales!$D16,"") -> Ferreira | D16: =TEXT(Individuales!$E16,"") -> Saavedra | E16: =TEXT(Individuales!$F16,"") -> Scarleth | F16: =TEXT(Individuales!$G16,"") -> Valentina | G16: =TEXT(Individuales!$J16,"") | H16: =TEXT(Individuales!$K16,"") | I16: =IF(G16<>"",$B$7,"") | J16: =TEXT(Individuales!$L16,"") -> INFANTIL | K16: =TEXT(Individuales!$M16,"") | M16: =TEXT(Individuales!$E$6,"") -> Skating Queens | N16: =TEXT(Individuales!P16,"") | O16: =TEXT(Individuales!Q16,"") | P16: =TEXT(Individuales!R16,"") | Q16: =TEXT(Individuales!S16,"") | R16: =TEXT(Individuales!T16,"") | S16: =TEXT(Individuales!U16,"") | T16: =IF(R16<>"",$M$7,"") | U16: =TEXT(Individuales!V16,"") | V16: =TEXT(Individuales!$N16,"") -> NACIONAL C
B17: =TEXT(Individuales!$E$6,"") -> Skating Queens | C17: =TEXT(Individuales!$D17,"") -> Soto | D17: =TEXT(Individuales!$E17,"") -> Poblete | E17: =TEXT(Individuales!$F17,"") -> Javiera | F17: =TEXT(Individuales!$G17,"") -> Isidora | G17: =TEXT(Individuales!$J17,"") | H17: =TEXT(Individuales!$K17,"") | I17: =IF(G17<>"",$B$7,"") | J17: =TEXT(Individuales!$L17,"") -> INFANTIL | K17: =TEXT(Individuales!$M17,"") | M17: =TEXT(Individuales!$E$6,"") -> Skating Queens | N17: =TEXT(Individuales!P17,"") -> NOVICIOS | O17: =TEXT(Individuales!Q17,"") | P17: =TEXT(Individuales!R17,"") | Q17: =TEXT(Individuales!S17,"") | R17: =TEXT(Individuales!T17,"") | S17: =TEXT(Individuales!U17,"") | T17: =IF(R17<>"",$M$7,"") | U17: =TEXT(Individuales!V17,"") | V17: =TEXT(Individuales!$N17,"") -> NACIONAL C
B18: =TEXT(Individuales!$E$6,"") -> Skating Queens | C18: =TEXT(Individuales!$D18,"") -> Manzo | D18: =TEXT(Individuales!$E18,"") -> Herrera | E18: =TEXT(Individuales!$F18,"") -> Fernanda | F18: =TEXT(Individuales!$G18,"") -> Isidora | G18: =TEXT(Individuales!$J18,"") | H18: =TEXT(Individuales!$K18,"") | I18: =IF(G18<>"",$B$7,"") | J18: =TEXT(Individuales!$L18,"") -> CADETES | K18: =TEXT(Individuales!$M18,"") | M18: =TEXT(Individuales!$E$6,"") -> Skating Queens | N18: =TEXT(Individuales!P18,"") -> NOVICIOS | O18: =TEXT(Individuales!Q18,"") | P18: =TEXT(Individuales!R18,"") | Q18: =TEXT(Individuales!S18,"") | R18: =TEXT(Individuales!T18,"") | S18: =TEXT(Individuales!U18,"") | T18: =IF(R18<>"",$M$7,"") | U18: =TEXT(Individuales!V18,"") | V18: =TEXT(Individuales!$N18,"") -> NACIONAL C
B19: =TEXT(Individuales!$E$6,"") -> Skating Queens | C19: =TEXT(Individuales!$D19,"") -> Quilodran | D19: =TEXT(Individuales!$E19,"") -> San Martin | E19: =TEXT(Individuales!$F19,"") -> Millaray | F19: =TEXT(Individuales!$G19,"") -> Licarayen | G19: =TEXT(Individuales!$J19,"") | H19: =TEXT(Individuales!$K19,"") | I19: =IF(G19<>"",$B$7,"") | J19: =TEXT(Individuales!$L19,"") -> CADETES | K19: =TEXT(Individuales!$M19,"") | M19: =TEXT(Individuales!$E$6,"") -> Skating Queens | N19: =TEXT(Individuales!P19,"") | O19: =TEXT(Individuales!Q19,"") | P19: =TEXT(Individuales!R19,"") | Q19: =TEXT(Individuales!S19,"") | R19: =TEXT(Individuales!T19,"") | S19: =TEXT(Individuales!U19,"") | T19: =IF(R19<>"",$M$7,"") | U19: =TEXT(Individuales!V19,"") | V19: =TEXT(Individuales!$N19,"") -> NACIONAL C
B20: =TEXT(Individuales!$E$6,"") -> Skating Queens | C20: =TEXT(Individuales!$D20,"") -> Eriz | D20: =TEXT(Individuales!$E20,"") -> Aguayo | E20: =TEXT(Individuales!$F20,"") -> Martina | F20: =TEXT(Individuales!$G20,"") -> Belen | G20: =TEXT(Individuales!$J20,"") | H20: =TEXT(Individuales!$K20,"") | I20: =IF(G20<>"",$B$7,"") | J20: =TEXT(Individuales!$L20,"") -> CADETES | K20: =TEXT(Individuales!$M20,"") | M20: =TEXT(Individuales!$E$6,"") -> Skating Queens | N20: =TEXT(Individuales!P20,"") -> NACIONAL B | O20: =TEXT(Individuales!Q20,"") | P20: =TEXT(Individuales!R20,"") | Q20: =TEXT(Individuales!S20,"") | R20: =TEXT(Individuales!T20,"") | S20: =TEXT(Individuales!U20,"") | T20: =IF(R20<>"",$M$7,"") | U20: =TEXT(Individuales!V20,"") | V20: =TEXT(Individuales!$N20,"") -> NACIONAL C
B21: =TEXT(Individuales!$E$6,"") -> Skating Queens | C21: =TEXT(Individuales!$D21,"") -> Zambrano | D21: =TEXT(Individuales!$E21,"") -> Conejeros | E21: =TEXT(Individuales!$F21,"") -> Karolain | F21: =TEXT(Individuales!$G21,"") -> Betsabe | G21: =TEXT(Individuales!$J21,"") | H21: =TEXT(Individuales!$K21,"") | I21: =IF(G21<>"",$B$7,"") | J21: =TEXT(Individuales!$L21,"") -> INFANTIL | K21: =TEXT(Individuales!$M21,"") | M21: =TEXT(Individuales!$E$6,"") -> Skating Queens | N21: =TEXT(Individuales!P21,"") -> NACIONAL B | O21: =TEXT(Individuales!Q21,"") | P21: =TEXT(Individuales!R21,"") | Q21: =TEXT(Individuales!S21,"") | R21: =TEXT(Individuales!T21,"") | S21: =TEXT(Individuales!U21,"") | T21: =IF(R21<>"",$M$7,"") | U21: =TEXT(Individuales!V21,"") | V21: =TEXT(Individuales!$N21,"") -> NACIONAL B
B22: =TEXT(Individuales!$E$6,"") -> Skating Queens | C22: =TEXT(Individuales!$D22,"") -> Fernandez | D22: =TEXT(Individuales!$E22,"") -> Rojas | E22: =TEXT(Individuales!$F22,"") -> Constanza | F22: =TEXT(Individuales!$G22,"") -> Catalina | G22: =TEXT(Individuales!$J22,"") | H22: =TEXT(Individuales!$K22,"") | I22: =IF(G22<>"",$B$7,"") | J22: =TEXT(Individuales!$L22,"") -> CADETES | K22: =TEXT(Individuales!$M22,"") | M22: =TEXT(Individuales!$E$6,"") -> Skating Queens | N22: =TEXT(Individuales!P22,"") | O22: =TEXT(Individuales!Q22,"") | P22: =TEXT(Individuales!R22,"") | Q22: =TEXT(Individuales!S22,"") | R22: =TEXT(Individuales!T22,"") | S22: =TEXT(Individuales!U22,"") | T22: =IF(R22<>"",$M$7,"") | U22: =TEXT(Individuales!V22,"") | V22: =TEXT(Individuales!$N22,"")
... B279: =TEXT(Individuales!$E$6,"") -> Skating Queens | C279: =TEXT(Individuales!$D279,"") | D279: =TEXT(Individuales!$E279,"") | E279: =TEXT(Individuales!$F279,"") | F279: =TEXT(Individuales!$G279,"") | G279: =TEXT(Individuales!$J279,"") | H279: =TEXT(Individuales!$K279,"") | I279: =IF(G279<>"",$B$7,"") | J279: =TEXT(Individuales!$L279,"") | K279: =TEXT(Individuales!$M279,"") | M279: =TEXT(Individuales!$E$6,"") -> Skating Queens | N279: =TEXT(Individuales!P279,"") | O279: =TEXT(Individuales!Q279,"") | P279: =TEXT(Individuales!R279,"") | Q279: =TEXT(Individuales!S279,"") | R279: =TEXT(Individuales!T279,"") | S279: =TEXT(Individuales!U279,"") | T279: =IF(R279<>"",$M$7,"") | U279: =TEXT(Individuales!V279,"") | V279: =TEXT(Individuales!$N279,"")

Sheet Config
A1: Año Corte Edad: | B1: 2019 | G1: Femenino | H1: Masculino
C2: 2 | D2: 3
A3: Modalidad | B3: DEBUTANTE
A5: Modalidad | B5: LIBRE
A6: Eficiencias | C6: NOVICIOS | D6: NACIONAL C | E6: NACIONAL B | F6: NACIONAL A | G6: NACIONAL | H6: INTERNACIONAL
A7: 0 | B7: 6 | C7: 8 | D7: 10 | E7: 12 | F7: 14 | G7: 16 | H7: 18 | I7: 99
A8: Categorias | B8: PEQUES 5-6 | C8: PEQUES 7-8 | D8: PRE INFANTIL | E8: INFANTIL | F8: CADETES | G8: JUVENIL | H8: JUNIOR | I8: SENIOR
B9: B | C9: C | D9: D | E9: E | F9: F | G9: G | H9: H | I9: I
B10: NOVICIOS | C10: NOVICIOS | D10: NOVICIOS | E10: NOVICIOS | F10: NOVICIOS | G10: NOVICIOS | H10: NOVICIOS | I10: NOVICIOS
B11: NACIONAL C | C11: NACIONAL C | D11: NACIONAL C | E11: NACIONAL C | F11: NACIONAL C | G11: NACIONAL C | H11: NACIONAL C | I11: NACIONAL C
D12: NACIONAL B | E12: NACIONAL B | F12: NACIONAL B | G12: NACIONAL B | H12: NACIONAL B | I12: NACIONAL B
E13: NACIONAL A | F13: NACIONAL A | G13: NACIONAL A | H13: NACIONAL A | I13: NACIONAL A
E14: NACIONAL | F14: NACIONAL | G14: NACIONAL | H14: NACIONAL | I14: NACIONAL
E15: INTERNACIONAL | F15: INTERNACIONAL | G15: INTERNACIONAL | H15: INTERNACIONAL | I15: INTERNACIONAL
A17: Modalidad | B17: FIGURAS
A18: Eficiencias | C18: NOVICIOS | D18: NACIONAL C | E18: NACIONAL B | F18: NACIONAL A | G18: NACIONAL | H18: INTERNACIONAL
A19: 0 | B19: 6 | C19: 8 | D19: 10 | E19: 12 | F19: 14 | G19: 16 | H19: 18 | I19: 99
A20: Categorias | B20: PEQUES 5-6 | C20: PEQUES 7-8 | D20: PRE INFANTIL | E20: INFANTIL | F20: CADETES | G20: JUVENIL | H20: JUNIOR | I20: SENIOR
B21: B | C21: C | D21: D | E21: E | F21: F | G21: G | H21: H | I21: I
B22: NOVICIOS | C22: NOVICIOS | D22: NOVICIOS | E22: NOVICIOS | F22: NOVICIOS | G22: NOVICIOS | H22: NOVICIOS | I22: NOVICIOS
B23: NACIONAL C | C23: NACIONAL C | D23: NACIONAL C | E23: NACIONAL C | F23: NACIONAL C | G23: NACIONAL C | H23: NACIONAL C | I23: NACIONAL C
C24: NACIONAL B | D24: NACIONAL B | E24: NACIONAL B | F24: NACIONAL B | G24: NACIONAL B | H24: NACIONAL B | I24: NACIONAL B
C25: NACIONAL A | D25: NACIONAL A | E25: NACIONAL A | F25: NACIONAL A | G25: NACIONAL A | H25: NACIONAL A | I25: NACIONAL A
C26: NACIONAL | D26: NACIONAL | E26: NACIONAL | F26: NACIONAL | G26: NACIONAL | H26: NACIONAL | I26: NACIONAL
C27: INTERNACIONAL | D27: INTERNACIONAL | E27: INTERNACIONAL | F27: INTERNACIONAL | G27: INTERNACIONAL | H27: INTERNACIONAL | I27: INTERNACIONAL
A29: Modalidad | B29: DANZA
A30: Eficiencias | C30: NOVICIOS | D30: NACIONAL C | E30: NACIONAL B | F30: NACIONAL A | G30: NACIONAL | H30: INTERNACIONAL
A31: 0 | B31: 6 | C31: 8 | D31: 10 | E31: 12 | F31: 14 | G31: 16 | H31: 18 | I31: 99
A32: Categorias | B32: PEQUES 5-6 | C32: PEQUES 7-8 | D32: PRE INFANTIL | E32: INFANTIL | F32: CADETES | G32: JUVENIL | H32: JUNIOR | I32: SENIOR
B33: B | C33: C | D33: D | E33: E | F33: F | G33: G | H33: H | I33: I
B34: NOVICIOS | C34: NOVICIOS | D34: NOVICIOS | E34: NOVICIOS | F34: NOVICIOS | G34: NOVICIOS | H34: NOVICIOS | I34: NOVICIOS
B35: NACIONAL C | C35: NACIONAL C | D35: NACIONAL C | E35: NACIONAL C | F35: NACIONAL C | G35: NACIONAL C | H35: NACIONAL C | I35: NACIONAL C
B36: NACIONAL B | C36: NACIONAL B | D36: NACIONAL B | E36: NACIONAL B | F36: NACIONAL B | G36: NACIONAL B | H36: NACIONAL B | I36: NACIONAL B
D37: NACIONAL A | E37: NACIONAL A | F37: NACIONAL A | G37: NACIONAL A | H37: NACIONAL A | I37: NACIONAL A
D38: NACIONAL | E38: NACIONAL | F38: NACIONAL | G38: NACIONAL | H38: NACIONAL | I38: NACIONAL
D39: INTERNACIONAL | E39: INTERNACIONAL | F39: INTERNACIONAL | G39: INTERNACIONAL | H39: INTERNACIONAL | I39: INTERNACIONAL
A41: Modalidad | B41: FREEDANCE
A42: Eficiencias | C42: NACIONAL B | D42: NACIONAL A
A43: 0 | B43: 6 | C43: 8 | D43: 10 | E43: 12 | F43: 14 | G43: 16 | H43: 18 | I43: 99
A44: Categorias | B44: PEQUES 5-6 | C44: PEQUES 7-8 | D44: PRE INFANTIL | E44: INFANTIL | F44: CADETES | G44: JUVENIL | H44: JUNIOR | I44: SENIOR
B45: B | C45: C | D45: D | E45: E | F45: F | G45: G | H45: H | I45: I
B46: NACIONAL B | C46: NACIONAL B | D46: NACIONAL B | E46: NACIONAL B | F46: NACIONAL B | G46: NACIONAL B | H46: NACIONAL B | I46: NACIONAL B
B47: NACIONAL A | C47: NACIONAL A | D47: NACIONAL A | E47: NACIONAL A | F47: NACIONAL A | G47: NACIONAL A | H47: NACIONAL A | I47: NACIONAL A
A50: Modalidad | B50: PAREJAS
A51: Eficiencias | C51: NACIONAL C | D51: NACIONAL B
A52: 0 | B52: 10 | C52: 12 | D52: 14 | E52: 16 | F52: 18 | G52: 99
A53: Categorias | B53: PRE INFANTIL | C53: INFANTIL | D53: CADETES | E53: JUVENIL | F53: JUNIOR | G53: SENIOR
B54: B | C54: C | D54: D | E54: E | F54: F | G54: G | H54: H | I54: I
B55: NACIONAL C | C55: NACIONAL C | D55: NACIONAL C | E55: NACIONAL C | F55: NACIONAL C | G55: NACIONAL C | H55: NACIONAL C | I55: NACIONAL C
B56: NACIONAL B | C56: NACIONAL B | D56: NACIONAL B | E56: NACIONAL B | F56: NACIONAL B | G56: NACIONAL B | H56: NACIONAL B | I56: NACIONAL B
A59: Modalidad | B59: SHOW
A60: Modalidades | C60: GRUPO GRANDE | D60: GRUPO PEQUEÑO | E60: CUARTETO
A61: 0 | B61: 14 | C61: 99
A62: Categorias | B62: MENORES | C62: MAYORES
B63: B | C63: C
B64: GRUPO GRANDE | C64: GRUPO GRANDE
B65: GRUPO PEQUEÑO | C65: GRUPO PEQUEÑO
B66: CUARTETO | C66: CUARTETO
