Workbook

Sheet Individuales
B2: LIGA DEPORTIVA NACIONAL DE PATINAJE ARTÍSTICO DE CHILE
B3: INSCRIPCIONES TEMPORADA 2022
D6: Club | E6: Aneley | L6: Modalidad
L7: DEBUTANTE | M7: LIBRE | N7: FIGURAS | O7: DANZA
B8: # | C8: Club | D8: Ap. Paterno | E8: Ap. Materno | F8: Nombre | G8: Segundo nombre | H8: Genero | I8: Rut (NNNNNNN-D) | J8: Nacimiento (dd/mm/yyyy) | K8: Categoria | L8: Eficiencia | M8: EficienciaL | N8: EficienciaF | O8: EficienciaD | P8: Freedance
B9: =IF(OR(D9<>"",I9<>""),CELL("fila",B9)-8,"") -> 1 | C9: =IF(Individuales[[#This Row],[ '#]]<>"",TEXT($E$6,""),"") -> Aneley | D9: BARRAZA | E9: PAZ | F9: CAMILA | G9: FERNANDA | H9: Femenino | I9: 22079487-3 | J9: 38801.167 | K9: JUVENIL | M9: NACIONAL B | O9: NACIONAL B | P9: NACIONAL B
B10: =IF(OR(D10<>"",I10<>""),CELL("fila",B10)-8,"") -> 2 | C10: =IF(Individuales[[#This Row],[ '#]]<>"",TEXT($E$6,""),"") -> Aneley | D10: PINTO | E10: CARVAJAL | F10: SOFÍA | G10: FERNANDA | H10: Femenino | I10: 22804847-K | J10: 39684.167 | K10: CADETE | M10: NOVICIO | O10: NOVICIO
B11: =IF(OR(D11<>"",I11<>""),CELL("fila",B11)-8,"") -> 3 | C11: =IF(Individuales[[#This Row],[ '#]]<>"",TEXT($E$6,""),"") -> Aneley | D11: CONTRERAS | E11: AVILÉS | F11: MACARENA | H11: Femenino | I11: 22129934-5 | J11: 38872.167 | K11: JUVENIL | O11: INTERNACIONAL | P11: INTERNACIONAL
B12: =IF(OR(D12<>"",I12<>""),CELL("fila",B12)-8,"") | C12: =IF(Individuales[[#This Row],[ '#]]<>"",TEXT($E$6,""),"")
B13: =IF(OR(D13<>"",I13<>""),CELL("fila",B13)-8,"") | C13: =IF(Individuales[[#This Row],[ '#]]<>"",TEXT($E$6,""),"")
B14: =IF(OR(D14<>"",I14<>""),CELL("fila",B14)-8,"") | C14: =IF(Individuales[[#This Row],[ '#]]<>"",TEXT($E$6,""),"")
B15: =IF(OR(D15<>"",I15<>""),CELL("fila",B15)-8,"") | C15: =IF(Individuales[[#This Row],[ '#]]<>"",TEXT($E$6,""),"")
B16: =IF(OR(D16<>"",I16<>""),CELL("fila",B16)-8,"") | C16: =IF(Individuales[[#This Row],[ '#]]<>"",TEXT($E$6,""),"")
B17: =IF(OR(D17<>"",I17<>""),CELL("fila",B17)-8,"") | C17: =IF(Individuales[[#This Row],[ '#]]<>"",TEXT($E$6,""),"")
B18: =IF(OR(D18<>"",I18<>""),CELL("fila",B18)-8,"") | C18: =IF(Individuales[[#This Row],[ '#]]<>"",TEXT($E$6,""),"")
B19: =IF(OR(D19<>"",I19<>""),CELL("fila",B19)-8,"") | C19: =IF(Individuales[[#This Row],[ '#]]<>"",TEXT($E$6,""),"")
B20: =IF(OR(D20<>"",I20<>""),CELL("fila",B20)-8,"") | C20: =IF(Individuales[[#This Row],[ '#]]<>"",TEXT($E$6,""),"")
B21: =IF(OR(D21<>"",I21<>""),CELL("fila",B21)-8,"") | C21: =IF(Individuales[[#This Row],[ '#]]<>"",TEXT($E$6,""),"")
B22: =IF(OR(D22<>"",I22<>""),CELL("fila",B22)-8,"") | C22: =IF(Individuales[[#This Row],[ '#]]<>"",TEXT($E$6,""),"")
B23: =IF(OR(D23<>"",I23<>""),CELL("fila",B23)-8,"") | C23: =IF(Individuales[[#This Row],[ '#]]<>"",TEXT($E$6,""),"")
... B279: =IF(OR(D279<>"",I279<>""),CELL("fila",B279)-8,"") | C279: =IF(Individuales[[#This Row],[ '#]]<>"",TEXT($E$6,""),"")

Sheet Parejas
B2: LIGA DEPORTIVA NACIONAL DE PATINAJE ARTÍSTICO DE CHILE
B3: INSCRIPCIONES TEMPORADA 2022
D7: Deportista 1 | G7: Deportista 2
B8: # | C8: Club | D8: Nombre | E8: Rut | F8: Nacimiento (dd/mm/yyyy) | G8: Nombre2 | H8: Rut2 | I8: Nacimiento2 (dd/mm/yyyy) | J8: Categoria | K8: EficienciaL
B9: =IF(AND(OR(D9<>"",E9<>""),OR(G9<>"",H9<>"")),CELL("fila",B9)-8,"") | C9: =IF(Individuales3[[#This Row],[ '#]]<>"",TEXT(Individuales!$E$6,""),"")
B10: =IF(AND(OR(D10<>"",E10<>""),OR(G10<>"",H10<>"")),CELL("fila",B10)-8,"") | C10: =IF(Individuales3[[#This Row],[ '#]]<>"",TEXT(Individuales!$E$6,""),"")
B11: =IF(AND(OR(D11<>"",E11<>""),OR(G11<>"",H11<>"")),CELL("fila",B11)-8,"") | C11: =IF(Individuales3[[#This Row],[ '#]]<>"",TEXT(Individuales!$E$6,""),"")
B12: =IF(AND(OR(D12<>"",E12<>""),OR(G12<>"",H12<>"")),CELL("fila",B12)-8,"") | C12: =IF(Individuales3[[#This Row],[ '#]]<>"",TEXT(Individuales!$E$6,""),"")
B13: =IF(AND(OR(D13<>"",E13<>""),OR(G13<>"",H13<>"")),CELL("fila",B13)-8,"") | C13: =IF(Individuales3[[#This Row],[ '#]]<>"",TEXT(Individuales!$E$6,""),"")
B14: =IF(AND(OR(D14<>"",E14<>""),OR(G14<>"",H14<>"")),CELL("fila",B14)-8,"") | C14: =IF(Individuales3[[#This Row],[ '#]]<>"",TEXT(Individuales!$E$6,""),"")
B15: =IF(AND(OR(D15<>"",E15<>""),OR(G15<>"",H15<>"")),CELL("fila",B15)-8,"") | C15: =IF(Individuales3[[#This Row],[ '#]]<>"",TEXT(Individuales!$E$6,""),"")
B16: =IF(AND(OR(D16<>"",E16<>""),OR(G16<>"",H16<>"")),CELL("fila",B16)-8,"") | C16: =IF(Individuales3[[#This Row],[ '#]]<>"",TEXT(Individuales!$E$6,""),"")
B17: =IF(AND(OR(D17<>"",E17<>""),OR(G17<>"",H17<>"")),CELL("fila",B17)-8,"") | C17: =IF(Individuales3[[#This Row],[ '#]]<>"",TEXT(Individuales!$E$6,""),"")
B18: =IF(AND(OR(D18<>"",E18<>""),OR(G18<>"",H18<>"")),CELL("fila",B18)-8,"") | C18: =IF(Individuales3[[#This Row],[ '#]]<>"",TEXT(Individuales!$E$6,""),"")
B19: =IF(AND(OR(D19<>"",E19<>""),OR(G19<>"",H19<>"")),CELL("fila",B19)-8,"") | C19: =IF(Individuales3[[#This Row],[ '#]]<>"",TEXT(Individuales!$E$6,""),"")
B20: =IF(AND(OR(D20<>"",E20<>""),OR(G20<>"",H20<>"")),CELL("fila",B20)-8,"") | C20: =IF(Individuales3[[#This Row],[ '#]]<>"",TEXT(Individuales!$E$6,""),"")
... B279: =IF(AND(OR(D279<>"",E279<>""),OR(G279<>"",H279<>"")),CELL("fila",B279)-8,"") | C279: =IF(Individuales3[[#This Row],[ '#]]<>"",TEXT(Individuales!$E$6,""),"")

Sheet Grupales
B2: LIGA DEPORTIVA NACIONAL DE PATINAJE ARTÍSTICO DE CHILE
B3: INSCRIPCIONES TEMPORADA 2022
B8: # | C8: Club | D8: Nombre Grupo | E8: Deportistas | F8: Modalidad | G8: Categoria
B9: =IF(D9<>"",CELL("fila",B9)-8,"") | C9: =IF(Individuales34[[#This Row],[ '#]]<>"",TEXT(Individuales!$E$6,""),"")
B10: =IF(D10<>"",CELL("fila",B10)-8,"") | C10: =IF(Individuales34[[#This Row],[ '#]]<>"",TEXT(Individuales!$E$6,""),"")
B11: =IF(D11<>"",CELL("fila",B11)-8,"") | C11: =IF(Individuales34[[#This Row],[ '#]]<>"",TEXT(Individuales!$E$6,""),"")
B12: =IF(D12<>"",CELL("fila",B12)-8,"") | C12: =IF(Individuales34[[#This Row],[ '#]]<>"",TEXT(Individuales!$E$6,""),"")
B13: =IF(D13<>"",CELL("fila",B13)-8,"") | C13: =IF(Individuales34[[#This Row],[ '#]]<>"",TEXT(Individuales!$E$6,""),"")
B14: =IF(D14<>"",CELL("fila",B14)-8,"") | C14: =IF(Individuales34[[#This Row],[ '#]]<>"",TEXT(Individuales!$E$6,""),"")
B15: =IF(D15<>"",CELL("fila",B15)-8,"") | C15: =IF(Individuales34[[#This Row],[ '#]]<>"",TEXT(Individuales!$E$6,""),"")
B16: =IF(D16<>"",CELL("fila",B16)-8,"") | C16: =IF(Individuales34[[#This Row],[ '#]]<>"",TEXT(Individuales!$E$6,""),"")
B17: =IF(D17<>"",CELL("fila",B17)-8,"") | C17: =IF(Individuales34[[#This Row],[ '#]]<>"",TEXT(Individuales!$E$6,""),"")
B18: =IF(D18<>"",CELL("fila",B18)-8,"") | C18: =IF(Individuales34[[#This Row],[ '#]]<>"",TEXT(Individuales!$E$6,""),"")
B19: =IF(D19<>"",CELL("fila",B19)-8,"") | C19: =IF(Individuales34[[#This Row],[ '#]]<>"",TEXT(Individuales!$E$6,""),"")
B20: =IF(D20<>"",CELL("fila",B20)-8,"") | C20: =IF(Individuales34[[#This Row],[ '#]]<>"",TEXT(Individuales!$E$6,""),"")
... B279: =IF(D279<>"",CELL("fila",B279)-8,"") | C279: =IF(Individuales34[[#This Row],[ '#]]<>"",TEXT(Individuales!$E$6,""),"")

Sheet Config
A1: Año Corte Edad: | B1: 2022 | G1: Femenino | H1: Masculino
C2: 2 | D2: 3 | J2: 2004 | K2: =B1-J2 -> 18
A3: Modalidad | B3: DEBUTANTE
A5: Modalidad | B5: LIBRE
A6: Eficiencias | C6: NOVICIOS | D6: NACIONAL C | E6: NACIONAL B | F6: NACIONAL A | G6: NACIONAL | H6: INTERNACIONAL
A7: 0 | B7: 5 | C7: 8 | D7: 9 | E7: 11 | F7: 13 | G7: 15 | H7: 16 | I7: 18 | J7: 99
A8: Categorias | B8: SUB 5 | C8: PEQUES | D8: TOTS | E8: MINI | F8: ESPOIR | G8: CADETE | H8: JUVENIL | I8: JUNIOR | J8: SENIOR
B9: B | C9: C | D9: D | E9: E | F9: F | G9: G | H9: H | I9: I | J9: J
B10: NOVICIOS | C10: NOVICIOS | D10: NOVICIOS | E10: NOVICIOS | F10: NOVICIOS | G10: NOVICIOS | H10: NOVICIOS | I10: NOVICIOS | J10: NOVICIOS
C11: NACIONAL C | D11: NACIONAL C | E11: NACIONAL C | F11: NACIONAL C | G11: NACIONAL C | H11: NACIONAL C | I11: NACIONAL C | J11: NACIONAL C
D12: NACIONAL B | E12: NACIONAL B | F12: NACIONAL B | G12: NACIONAL B | H12: NACIONAL B | I12: NACIONAL B | J12: NACIONAL B
D13: NACIONAL A | E13: NACIONAL A | F13: NACIONAL A | G13: NACIONAL A | H13: NACIONAL A | I13: NACIONAL A | J13: NACIONAL A
D14: NACIONAL | E14: NACIONAL | F14: NACIONAL | G14: NACIONAL | H14: NACIONAL | I14: NACIONAL | J14: NACIONAL
E15: INTERNACIONAL | F15: INTERNACIONAL | G15: INTERNACIONAL | H15: INTERNACIONAL | I15: INTERNACIONAL | J15: INTERNACIONAL
A17: Modalidad | B17: FIGURAS
A18: Eficiencias | C18: NOVICIOS | D18: NACIONAL C | E18: NACIONAL B | F18: NACIONAL A | G18: NACIONAL | H18: INTERNACIONAL
A19: 0 | B19: 5 | C19: 8 | D19: 9 | E19: 11 | F19: 13 | G19: 15 | H19: 16 | I19: 18 | J19: 99
A20: Categorias | B20: SUB 5 | C20: PEQUES | D20: TOTS | E20: MINI | F20: ESPOIR | G20: CADETE | H20: JUVENIL | I20: JUNIOR | J20: SENIOR
B21: B | C21: C | D21: D | E21: E | F21: F | G21: G | H21: H | I21: I | J21: J
B22: NOVICIOS | C22: NOVICIOS | D22: NOVICIOS | E22: NOVICIOS | F22: NOVICIOS | G22: NOVICIOS | H22: NOVICIOS | I22: NOVICIOS | J22: NOVICIOS
C23: NACIONAL C | D23: NACIONAL C | E23: NACIONAL C | F23: NACIONAL C | G23: NACIONAL C | H23: NACIONAL C | I23: NACIONAL C | J23: NACIONAL C
D24: NACIONAL B | E24: NACIONAL B | F24: NACIONAL B | G24: NACIONAL B | H24: NACIONAL B | I24: NACIONAL B | J24: NACIONAL B
D25: NACIONAL A | E25: NACIONAL A | F25: NACIONAL A | G25: NACIONAL A | H25: NACIONAL A | I25: NACIONAL A | J25: NACIONAL A
D26: NACIONAL | E26: NACIONAL | F26: NACIONAL | G26: NACIONAL | H26: NACIONAL | I26: NACIONAL | J26: NACIONAL
E27: INTERNACIONAL | F27: INTERNACIONAL | G27: INTERNACIONAL | H27: INTERNACIONAL | I27: INTERNACIONAL | J27: INTERNACIONAL
A29: Modalidad | B29: DANZA
A30: Eficiencias | C30: NOVICIOS | D30: NACIONAL C | E30: NACIONAL B | F30: NACIONAL A | G30: NACIONAL | H30: INTERNACIONAL
A31: 0 | B31: 5 | C31: 8 | D31: 9 | E31: 11 | F31: 13 | G31: 15 | H31: 16 | I31: 18 | J31: 99
A32: Categorias | B32: SUB 5 | C32: PEQUES | D32: TOTS | E32: MINI | F32: ESPOIR | G32: CADETE | H32: JUVENIL | I32: JUNIOR | J32: SENIOR
B33: B | C33: C | D33: D | E33: E | F33: F | G33: G | H33: H | I33: I | J33: J
B34: NOVICIOS | C34: NOVICIOS | D34: NOVICIOS | E34: NOVICIOS | F34: NOVICIOS | G34: NOVICIOS | H34: NOVICIOS | I34: NOVICIOS | J34: NOVICIOS
C35: NACIONAL C | D35: NACIONAL C | E35: NACIONAL C | F35: NACIONAL C | G35: NACIONAL C | H35: NACIONAL C | I35: NACIONAL C | J35: NACIONAL C
D36: NACIONAL B | E36: NACIONAL B | F36: NACIONAL B | G36: NACIONAL B | H36: NACIONAL B | I36: NACIONAL B | J36: NACIONAL B
D37: NACIONAL A | E37: NACIONAL A | F37: NACIONAL A | G37: NACIONAL A | H37: NACIONAL A | I37: NACIONAL A | J37: NACIONAL A
E38: NACIONAL | F38: NACIONAL | G38: NACIONAL | H38: NACIONAL | I38: NACIONAL | J38: NACIONAL
E39: INTERNACIONAL | F39: INTERNACIONAL | G39: INTERNACIONAL | H39: INTERNACIONAL | I39: INTERNACIONAL | J39: INTERNACIONAL
A41: Modalidad | B41: FREEDANCE
A42: Eficiencias | C42: NACIONAL B | D42: NACIONAL A | E42: NACIONAL | F42: INTERNACIONAL
A43: 0 | B43: 9 | C43: 11 | D43: 13 | E43: 15 | F43: 16 | G43: 18 | H43: 99
A44: Categorias | B44: TOTS | C44: MINI | D44: ESPOIR | E44: CADETE | F44: JUVENIL | G44: JUNIOR | H44: SENIOR
...
